BEGIN:VCALENDAR
VERSION:2.0
PRODID:-//hacksw/handcal//NONSGML v1.0//EN
CALSCALE:GREGORIAN
BEGIN:VEVENT
DTSTART:20191107T081500Z
DTEND:20191107T093000Z
UID:e21744
DTSTAMP:20260419T100520Z
LOCATION:Edna and K.B. Weissman Building of Physical Sciences
DESCRIPTION:A new attempt to solve the type Ia supernova problem
SUMMARY:A new attempt to solve the type Ia supernova problem
END:VEVENT
END:VCALENDAR