BEGIN:VCALENDAR
VERSION:2.0
PRODID:-//hacksw/handcal//NONSGML v1.0//EN
CALSCALE:GREGORIAN
BEGIN:VEVENT
DTSTART:20191128T081500Z
DTEND:20191128T093000Z
UID:e21750
DTSTAMP:20260419T231713Z
LOCATION:Edna and K.B. Weissman Building of Physical Sciences
DESCRIPTION:Attosecond Interferometry
SUMMARY:Attosecond Interferometry
END:VEVENT
END:VCALENDAR