BEGIN:VCALENDAR
VERSION:2.0
PRODID:-//hacksw/handcal//NONSGML v1.0//EN
CALSCALE:GREGORIAN
BEGIN:VEVENT
DTSTART:20191226T081500Z
DTEND:20191226T093000Z
UID:e21754
DTSTAMP:20260420T050216Z
LOCATION:Edna and K.B. Weissman Building of Physical Sciences
DESCRIPTION:The Large Synoptic Survey Telescope:  Status Update and Prospects for Science
SUMMARY:The Large Synoptic Survey Telescope:  Status Update and Prospects for Science
END:VEVENT
END:VCALENDAR