BEGIN:VCALENDAR
VERSION:2.0
PRODID:-//hacksw/handcal//NONSGML v1.0//EN
CALSCALE:GREGORIAN
BEGIN:VEVENT
DTSTART:20200109T081500Z
DTEND:20200109T093000Z
UID:e21758
DTSTAMP:20260420T211454Z
LOCATION:Edna and K.B. Weissman Building of Physical Sciences
DESCRIPTION:Gravity\, entanglement\, and bit threads
SUMMARY:Gravity\, entanglement\, and bit threads
END:VEVENT
END:VCALENDAR