BEGIN:VCALENDAR
VERSION:2.0
PRODID:-//hacksw/handcal//NONSGML v1.0//EN
CALSCALE:GREGORIAN
BEGIN:VEVENT
DTSTART:20191006T050000Z
DTEND:20191006T050000Z
UID:e21800
DTSTAMP:20260422T182607Z
LOCATION:The David Lopatie Conference Centre
DESCRIPTION:The 2nd Adelis Systems Neuroscience meeting: a Weizmann-Technion co-effort to understand the brain
SUMMARY:The 2nd Adelis Systems Neuroscience meeting: a Weizmann-Technion co-effort to understand the brain
END:VEVENT
END:VCALENDAR