BEGIN:VCALENDAR
VERSION:2.0
PRODID:-//hacksw/handcal//NONSGML v1.0//EN
CALSCALE:GREGORIAN
BEGIN:VEVENT
DTSTART:20190915T113000Z
DTEND:20190915T130000Z
UID:e21802
DTSTAMP:20260420T120011Z
LOCATION:Max and Lillian Candiotty Building
DESCRIPTION:Panel Discussion: Women In Science 
SUMMARY:Panel Discussion: Women In Science 
END:VEVENT
END:VCALENDAR