BEGIN:VCALENDAR
VERSION:2.0
PRODID:-//hacksw/handcal//NONSGML v1.0//EN
CALSCALE:GREGORIAN
BEGIN:VEVENT
DTSTART:20191111T060000Z
DTEND:20191111T134500Z
UID:e21808
DTSTAMP:20260419T100425Z
LOCATION:Nella and Leon Benoziyo Building for Biological Sciences
DESCRIPTION:Weizmann-Garvan Research Symposium
SUMMARY:Weizmann-Garvan Research Symposium
END:VEVENT
END:VCALENDAR