BEGIN:VCALENDAR
VERSION:2.0
PRODID:-//hacksw/handcal//NONSGML v1.0//EN
CALSCALE:GREGORIAN
BEGIN:VEVENT
DTSTART:20201101T050000Z
DTEND:20201104T050000Z
UID:e21816
DTSTAMP:20260422T142554Z
LOCATION:The David Lopatie Conference Centre
DESCRIPTION:Extracellular vesicles friends and foes II
SUMMARY:Extracellular vesicles friends and foes II
END:VEVENT
END:VCALENDAR