BEGIN:VCALENDAR
VERSION:2.0
PRODID:-//hacksw/handcal//NONSGML v1.0//EN
CALSCALE:GREGORIAN
BEGIN:VEVENT
DTSTART:20190918T080000Z
DTEND:20190918T080000Z
UID:e21822
DTSTAMP:20260420T050123Z
LOCATION:Sussman Family Building for Environmental Sciences
DESCRIPTION:Forecast Skill and the Impact of Equatorial Waves in Two Operational Weather Prediction Systems
SUMMARY:Forecast Skill and the Impact of Equatorial Waves in Two Operational Weather Prediction Systems
END:VEVENT
END:VCALENDAR