BEGIN:VCALENDAR
VERSION:2.0
PRODID:-//hacksw/handcal//NONSGML v1.0//EN
CALSCALE:GREGORIAN
BEGIN:VEVENT
DTSTART:20191028T080000Z
DTEND:20191028T090000Z
UID:e21830
DTSTAMP:20260420T045937Z
LOCATION:Nella and Leon Benoziyo Building for Biological Sciences
DESCRIPTION:Life Science Colloquium- Prof. Daniel Douek
SUMMARY:Life Science Colloquium- Prof. Daniel Douek
END:VEVENT
END:VCALENDAR