BEGIN:VCALENDAR
VERSION:2.0
PRODID:-//hacksw/handcal//NONSGML v1.0//EN
CALSCALE:GREGORIAN
BEGIN:VEVENT
DTSTART:20200220T050000Z
DTEND:20200220T050000Z
UID:e21832
DTSTAMP:20260423T005209Z
LOCATION:The David Lopatie Conference Centre
DESCRIPTION:Israel Algorithmic Game Theory Day
SUMMARY:Israel Algorithmic Game Theory Day
END:VEVENT
END:VCALENDAR