BEGIN:VCALENDAR
VERSION:2.0
PRODID:-//hacksw/handcal//NONSGML v1.0//EN
CALSCALE:GREGORIAN
BEGIN:VEVENT
DTSTART:20190926T110000Z
DTEND:20190926T120000Z
UID:e21838
DTSTAMP:20260420T065135Z
LOCATION:Max and Lillian Candiotty Building
DESCRIPTION:The End of The End: Characterizing degradation pathways recognizing protein termini
SUMMARY:The End of The End: Characterizing degradation pathways recognizing protein termini
END:VEVENT
END:VCALENDAR