BEGIN:VCALENDAR
VERSION:2.0
PRODID:-//hacksw/handcal//NONSGML v1.0//EN
CALSCALE:GREGORIAN
BEGIN:VEVENT
DTSTART:20190918T120000Z
DTEND:20190918T131500Z
UID:e21844
DTSTAMP:20260420T050054Z
LOCATION:Nancy and Stephen Grand Israel National Center for Personalized Medicine
DESCRIPTION:G-INCPM-Special Seminar - Prof. Govert Somsen\, Division of BioAnalytical Chemistry\, Vrije University\, Amsterdam - "Probing the heterogeneity of intact proteins"
SUMMARY:G-INCPM-Special Seminar - Prof. Govert Somsen\, Division of BioAnalytical Chemistry\, Vrije University\, Amsterdam - "Probing the heterogeneity of intact proteins"
END:VEVENT
END:VCALENDAR