BEGIN:VCALENDAR
VERSION:2.0
PRODID:-//hacksw/handcal//NONSGML v1.0//EN
CALSCALE:GREGORIAN
BEGIN:VEVENT
DTSTART:20190923T110000Z
DTEND:20190923T120000Z
UID:e21846
DTSTAMP:20260420T050019Z
LOCATION:Nella and Leon Benoziyo Building for Brain Research
DESCRIPTION:Tonic GABAA receptor mediated conductance at cellular and network levels
SUMMARY:Tonic GABAA receptor mediated conductance at cellular and network levels
END:VEVENT
END:VCALENDAR