BEGIN:VCALENDAR
VERSION:2.0
PRODID:-//hacksw/handcal//NONSGML v1.0//EN
CALSCALE:GREGORIAN
BEGIN:VEVENT
DTSTART:20190924T070000Z
DTEND:20190924T080000Z
UID:e21848
DTSTAMP:20260420T122237Z
LOCATION:Nella and Leon Benoziyo Building for Biological Sciences
DESCRIPTION:Harnessing autophagic flux for improving plant fitness
SUMMARY:Harnessing autophagic flux for improving plant fitness
END:VEVENT
END:VCALENDAR