BEGIN:VCALENDAR
VERSION:2.0
PRODID:-//hacksw/handcal//NONSGML v1.0//EN
CALSCALE:GREGORIAN
BEGIN:VEVENT
DTSTART:20191111T100000Z
DTEND:20191111T110000Z
UID:e21852
DTSTAMP:20260419T100422Z
LOCATION:Wolfson Building for Biological Research
DESCRIPTION:IMM Guest seminar- Prof. Burkhard Ludewig will lecture on "Fibroblastic reticular cells at the nexus of innate and adaptive immunity”
SUMMARY:IMM Guest seminar- Prof. Burkhard Ludewig will lecture on "Fibroblastic reticular cells at the nexus of innate and adaptive immunity”
END:VEVENT
END:VCALENDAR