BEGIN:VCALENDAR
VERSION:2.0
PRODID:-//hacksw/handcal//NONSGML v1.0//EN
CALSCALE:GREGORIAN
BEGIN:VEVENT
DTSTART:20220328T050000Z
DTEND:20220330T050000Z
UID:e21856
DTSTAMP:20260420T050121Z
LOCATION:Michael Sela Auditorium
DESCRIPTION:From Basic Cancer Research to Innovative Therapies
SUMMARY:From Basic Cancer Research to Innovative Therapies
END:VEVENT
END:VCALENDAR