BEGIN:VCALENDAR
VERSION:2.0
PRODID:-//hacksw/handcal//NONSGML v1.0//EN
CALSCALE:GREGORIAN
BEGIN:VEVENT
DTSTART:20190926T080000Z
DTEND:20190926T090000Z
UID:e21862
DTSTAMP:20260420T054932Z
LOCATION:Perlman Chemical Sciences Building
DESCRIPTION:Solar Photovoltaics: Recent Progress & Future Potential
SUMMARY:Solar Photovoltaics: Recent Progress & Future Potential
END:VEVENT
END:VCALENDAR