BEGIN:VCALENDAR
VERSION:2.0
PRODID:-//hacksw/handcal//NONSGML v1.0//EN
CALSCALE:GREGORIAN
BEGIN:VEVENT
DTSTART:20190924T080000Z
DTEND:20190924T090000Z
UID:e21868
DTSTAMP:20260420T120006Z
LOCATION:Wolfson Building for Biological Research
DESCRIPTION:IMM Guest seminar- Prof.Mark Dawson  will lecture on "Targeting the Epigenome in Cancer."
SUMMARY:IMM Guest seminar- Prof.Mark Dawson  will lecture on "Targeting the Epigenome in Cancer."
END:VEVENT
END:VCALENDAR