BEGIN:VCALENDAR
VERSION:2.0
PRODID:-//hacksw/handcal//NONSGML v1.0//EN
CALSCALE:GREGORIAN
BEGIN:VEVENT
DTSTART:20190922T163000Z
DTEND:20190922T180000Z
UID:e21872
DTSTAMP:20260420T065127Z
LOCATION:Gerhard M.J. Schmidt Lecture Hall
DESCRIPTION:When people disappear - Stories and fairytales
SUMMARY:When people disappear - Stories and fairytales
END:VEVENT
END:VCALENDAR