BEGIN:VCALENDAR
VERSION:2.0
PRODID:-//hacksw/handcal//NONSGML v1.0//EN
CALSCALE:GREGORIAN
BEGIN:VEVENT
DTSTART:20190926T063000Z
DTEND:20190926T083000Z
UID:e21874
DTSTAMP:20260420T054937Z
LOCATION:Max and Lillian Candiotty Building
DESCRIPTION:"Acoustic Enrichment of Extracellular  Vesicles from Biological Fluids"
SUMMARY:"Acoustic Enrichment of Extracellular  Vesicles from Biological Fluids"
END:VEVENT
END:VCALENDAR