BEGIN:VCALENDAR
VERSION:2.0
PRODID:-//hacksw/handcal//NONSGML v1.0//EN
CALSCALE:GREGORIAN
BEGIN:VEVENT
DTSTART:20200210T050000Z
DTEND:20200211T050000Z
UID:e21878
DTSTAMP:20260422T204836Z
LOCATION:
DESCRIPTION:Israel Plant Ecology meeting
SUMMARY:Israel Plant Ecology meeting
END:VEVENT
END:VCALENDAR