BEGIN:VCALENDAR
VERSION:2.0
PRODID:-//hacksw/handcal//NONSGML v1.0//EN
CALSCALE:GREGORIAN
BEGIN:VEVENT
DTSTART:20191031T050000Z
DTEND:20191031T050000Z
UID:e21884
DTSTAMP:20260421T213500Z
LOCATION:The David Lopatie Conference Centre
DESCRIPTION:Mini-Symposium on Demystifying machine learning for microscopy
SUMMARY:Mini-Symposium on Demystifying machine learning for microscopy
END:VEVENT
END:VCALENDAR