BEGIN:VCALENDAR
VERSION:2.0
PRODID:-//hacksw/handcal//NONSGML v1.0//EN
CALSCALE:GREGORIAN
BEGIN:VEVENT
DTSTART:20201105T050000Z
DTEND:20201105T050000Z
UID:e21892
DTSTAMP:20260422T182627Z
LOCATION:The David Lopatie Conference Centre
DESCRIPTION:Production and function of EVs in infectious disease
SUMMARY:Production and function of EVs in infectious disease
END:VEVENT
END:VCALENDAR