BEGIN:VCALENDAR
VERSION:2.0
PRODID:-//hacksw/handcal//NONSGML v1.0//EN
CALSCALE:GREGORIAN
BEGIN:VEVENT
DTSTART:20220522T050000Z
DTEND:20220526T050000Z
UID:e21898
DTSTAMP:20260422T033945Z
LOCATION:Michael Sela Auditorium
DESCRIPTION:18th International p53 Workshop
SUMMARY:18th International p53 Workshop
END:VEVENT
END:VCALENDAR