BEGIN:VCALENDAR
VERSION:2.0
PRODID:-//hacksw/handcal//NONSGML v1.0//EN
CALSCALE:GREGORIAN
BEGIN:VEVENT
DTSTART:20191113T080000Z
DTEND:20191113T090000Z
UID:e21910
DTSTAMP:20260419T100424Z
LOCATION:Perlman Chemical Sciences Building
DESCRIPTION:Application of Electron Crystallography Methods in Metallurgy
SUMMARY:Application of Electron Crystallography Methods in Metallurgy
END:VEVENT
END:VCALENDAR