BEGIN:VCALENDAR
VERSION:2.0
PRODID:-//hacksw/handcal//NONSGML v1.0//EN
CALSCALE:GREGORIAN
BEGIN:VEVENT
DTSTART:20191022T110000Z
DTEND:20191022T120000Z
UID:e21934
DTSTAMP:20260421T213454Z
LOCATION:Helen and Milton A. Kimmelman Building
DESCRIPTION:On the surface but not superficial: Towards a deeper understanding of membrane remodeling
SUMMARY:On the surface but not superficial: Towards a deeper understanding of membrane remodeling
END:VEVENT
END:VCALENDAR