BEGIN:VCALENDAR
VERSION:2.0
PRODID:-//hacksw/handcal//NONSGML v1.0//EN
CALSCALE:GREGORIAN
BEGIN:VEVENT
DTSTART:20191110T110000Z
DTEND:20191110T110000Z
UID:e21942
DTSTAMP:20260425T075217Z
LOCATION:Sussman Family Building for Environmental Sciences
DESCRIPTION:Kepler's Multiple Planet Systems
SUMMARY:Kepler's Multiple Planet Systems
END:VEVENT
END:VCALENDAR