BEGIN:VCALENDAR
VERSION:2.0
PRODID:-//hacksw/handcal//NONSGML v1.0//EN
CALSCALE:GREGORIAN
BEGIN:VEVENT
DTSTART:20191027T090000Z
DTEND:20191027T090000Z
UID:e21944
DTSTAMP:20260423T053958Z
LOCATION:Arthur and Rochelle Belfer Building for Biomedical Research
DESCRIPTION:Special Guest Seminar
SUMMARY:Special Guest Seminar
END:VEVENT
END:VCALENDAR