BEGIN:VCALENDAR
VERSION:2.0
PRODID:-//hacksw/handcal//NONSGML v1.0//EN
CALSCALE:GREGORIAN
BEGIN:VEVENT
DTSTART:20191022T080000Z
DTEND:20191022T083000Z
UID:e21946
DTSTAMP:20260421T213456Z
LOCATION:Helen and Milton A. Kimmelman Building
DESCRIPTION:Sensing and Recognition using Molecules and Nanomaterials: From toxic elements to Biomarkers
SUMMARY:Sensing and Recognition using Molecules and Nanomaterials: From toxic elements to Biomarkers
END:VEVENT
END:VCALENDAR