BEGIN:VCALENDAR
VERSION:2.0
PRODID:-//hacksw/handcal//NONSGML v1.0//EN
CALSCALE:GREGORIAN
BEGIN:VEVENT
DTSTART:20200108T053000Z
DTEND:20200108T140000Z
UID:e21958
DTSTAMP:20260420T194255Z
LOCATION:Davidson Institute of Science Education
DESCRIPTION:Life Sciences Senior Scientists Day
SUMMARY:Life Sciences Senior Scientists Day
END:VEVENT
END:VCALENDAR