BEGIN:VCALENDAR
VERSION:2.0
PRODID:-//hacksw/handcal//NONSGML v1.0//EN
CALSCALE:GREGORIAN
BEGIN:VEVENT
DTSTART:20191031T063000Z
DTEND:20191031T073000Z
UID:e21966
DTSTAMP:20260419T185435Z
LOCATION:Gerhard M.J. Schmidt Lecture Hall
DESCRIPTION:Characterization of Biomolecule and Structure Changes using Polarization Transfer from Hyperpolarized Water
SUMMARY:Characterization of Biomolecule and Structure Changes using Polarization Transfer from Hyperpolarized Water
END:VEVENT
END:VCALENDAR