BEGIN:VCALENDAR
VERSION:2.0
PRODID:-//hacksw/handcal//NONSGML v1.0//EN
CALSCALE:GREGORIAN
BEGIN:VEVENT
DTSTART:20191105T110000Z
DTEND:20191105T110000Z
UID:e21980
DTSTAMP:20260419T185830Z
LOCATION:Helen and Milton A. Kimmelman Building
DESCRIPTION:Cooperative folding of polyglutamine helices in transcriptional regulators
SUMMARY:Cooperative folding of polyglutamine helices in transcriptional regulators
END:VEVENT
END:VCALENDAR