BEGIN:VCALENDAR
VERSION:2.0
PRODID:-//hacksw/handcal//NONSGML v1.0//EN
CALSCALE:GREGORIAN
BEGIN:VEVENT
DTSTART:20191107T063000Z
DTEND:20191107T073000Z
UID:e21982
DTSTAMP:20260422T152942Z
LOCATION:Gerhard M.J. Schmidt Lecture Hall
DESCRIPTION:How Metal Ions in the Brain Tip the Toxic Balance of the Killer Prion Protein: Insights from NMR and EPR”
SUMMARY:How Metal Ions in the Brain Tip the Toxic Balance of the Killer Prion Protein: Insights from NMR and EPR”
END:VEVENT
END:VCALENDAR