BEGIN:VCALENDAR
VERSION:2.0
PRODID:-//hacksw/handcal//NONSGML v1.0//EN
CALSCALE:GREGORIAN
BEGIN:VEVENT
DTSTART:20191103T063000Z
DTEND:20191103T140000Z
UID:e21984
DTSTAMP:20260423T005204Z
LOCATION:Jacob Ziskind Building
DESCRIPTION:Pre-SAAC symposium on: New perspectives in modern mathematics
SUMMARY:Pre-SAAC symposium on: New perspectives in modern mathematics
END:VEVENT
END:VCALENDAR