BEGIN:VCALENDAR
VERSION:2.0
PRODID:-//hacksw/handcal//NONSGML v1.0//EN
CALSCALE:GREGORIAN
BEGIN:VEVENT
DTSTART:20200107T070000Z
DTEND:20200107T073000Z
UID:e22010
DTSTAMP:20260422T064154Z
LOCATION:Nella and Leon Benoziyo Building for Biological Sciences
DESCRIPTION:Malaria Parasites Secrete Proteasome-Containing Vesicles to Alter its Red Blood Cell Host
SUMMARY:Malaria Parasites Secrete Proteasome-Containing Vesicles to Alter its Red Blood Cell Host
END:VEVENT
END:VCALENDAR