BEGIN:VCALENDAR
VERSION:2.0
PRODID:-//hacksw/handcal//NONSGML v1.0//EN
CALSCALE:GREGORIAN
BEGIN:VEVENT
DTSTART:20200211T070000Z
DTEND:20200211T071500Z
UID:e22014
DTSTAMP:20260422T191633Z
LOCATION:Nella and Leon Benoziyo Building for Biological Sciences
DESCRIPTION:To be announced
SUMMARY:To be announced
END:VEVENT
END:VCALENDAR