BEGIN:VCALENDAR
VERSION:2.0
PRODID:-//hacksw/handcal//NONSGML v1.0//EN
CALSCALE:GREGORIAN
BEGIN:VEVENT
DTSTART:20200303T073000Z
DTEND:20200303T080000Z
UID:e22016
DTSTAMP:20260421T180731Z
LOCATION:Nella and Leon Benoziyo Building for Biological Sciences
DESCRIPTION:Uncovering a ‘Quorum Sensing-Like’ Mechanism of Malaria Parasites
SUMMARY:Uncovering a ‘Quorum Sensing-Like’ Mechanism of Malaria Parasites
END:VEVENT
END:VCALENDAR