BEGIN:VCALENDAR
VERSION:2.0
PRODID:-//hacksw/handcal//NONSGML v1.0//EN
CALSCALE:GREGORIAN
BEGIN:VEVENT
DTSTART:20191031T110000Z
DTEND:20191031T120000Z
UID:e22020
DTSTAMP:20260420T115956Z
LOCATION:Gerhard M.J. Schmidt Lecture Hall
DESCRIPTION:The Barry Sherman Medicinal Chemistry and Chemical Biology Seminar Series  Transnational Cancer Research
SUMMARY:The Barry Sherman Medicinal Chemistry and Chemical Biology Seminar Series  Transnational Cancer Research
END:VEVENT
END:VCALENDAR