BEGIN:VCALENDAR
VERSION:2.0
PRODID:-//hacksw/handcal//NONSGML v1.0//EN
CALSCALE:GREGORIAN
BEGIN:VEVENT
DTSTART:20191112T110000Z
DTEND:20191112T120000Z
UID:e22022
DTSTAMP:20260419T100409Z
LOCATION:Helen and Milton A. Kimmelman Building
DESCRIPTION:Bio-structural insights from solid state NMR: The small (Lithium) and the large (Phage)
SUMMARY:Bio-structural insights from solid state NMR: The small (Lithium) and the large (Phage)
END:VEVENT
END:VCALENDAR