BEGIN:VCALENDAR
VERSION:2.0
PRODID:-//hacksw/handcal//NONSGML v1.0//EN
CALSCALE:GREGORIAN
BEGIN:VEVENT
DTSTART:20191126T110000Z
DTEND:20191126T120000Z
UID:e22028
DTSTAMP:20260421T102908Z
LOCATION:Helen and Milton A. Kimmelman Building
DESCRIPTION:Structural design principles for specific RGS-G protein interactions 
SUMMARY:Structural design principles for specific RGS-G protein interactions 
END:VEVENT
END:VCALENDAR