BEGIN:VCALENDAR
VERSION:2.0
PRODID:-//hacksw/handcal//NONSGML v1.0//EN
CALSCALE:GREGORIAN
BEGIN:VEVENT
DTSTART:20200607T050000Z
DTEND:20200611T050000Z
UID:e22030
DTSTAMP:20260421T102936Z
LOCATION:
DESCRIPTION:Surface chemistry of catalytic systems
SUMMARY:Surface chemistry of catalytic systems
END:VEVENT
END:VCALENDAR