BEGIN:VCALENDAR
VERSION:2.0
PRODID:-//hacksw/handcal//NONSGML v1.0//EN
CALSCALE:GREGORIAN
BEGIN:VEVENT
DTSTART:20200303T070000Z
DTEND:20200303T073000Z
UID:e22042
DTSTAMP:20260421T173919Z
LOCATION:Nella and Leon Benoziyo Building for Biological Sciences
DESCRIPTION:Store operated Ca2+ entry regulatory factor (SARAF) alters murine metabolic state\, affects proliferation and murine behavior
SUMMARY:Store operated Ca2+ entry regulatory factor (SARAF) alters murine metabolic state\, affects proliferation and murine behavior
END:VEVENT
END:VCALENDAR