BEGIN:VCALENDAR
VERSION:2.0
PRODID:-//hacksw/handcal//NONSGML v1.0//EN
CALSCALE:GREGORIAN
BEGIN:VEVENT
DTSTART:20191215T100000Z
DTEND:20191215T110000Z
UID:e22068
DTSTAMP:20260419T101601Z
LOCATION:Nella and Leon Benoziyo Building for Biological Sciences
DESCRIPTION:Science-based policy and knowledge gaps regarding Israel's Marine Environment
SUMMARY:Science-based policy and knowledge gaps regarding Israel's Marine Environment
END:VEVENT
END:VCALENDAR