BEGIN:VCALENDAR
VERSION:2.0
PRODID:-//hacksw/handcal//NONSGML v1.0//EN
CALSCALE:GREGORIAN
BEGIN:VEVENT
DTSTART:20191112T093000Z
DTEND:20191112T093000Z
UID:e22072
DTSTAMP:20260419T100414Z
LOCATION:Gerhard M.J. Schmidt Lecture Hall
DESCRIPTION:The prospect of immunotherapy to combat Alzheimer's disease  and dementia: the key role of the brain's choroid plexus
SUMMARY:The prospect of immunotherapy to combat Alzheimer's disease  and dementia: the key role of the brain's choroid plexus
END:VEVENT
END:VCALENDAR