BEGIN:VCALENDAR
VERSION:2.0
PRODID:-//hacksw/handcal//NONSGML v1.0//EN
CALSCALE:GREGORIAN
BEGIN:VEVENT
DTSTART:20191111T111500Z
DTEND:20191111T111500Z
UID:e22078
DTSTAMP:20260419T100413Z
LOCATION:Edna and K.B. Weissman Building of Physical Sciences
DESCRIPTION:Systematics of spectral shifts in random matrix ensembles
SUMMARY:Systematics of spectral shifts in random matrix ensembles
END:VEVENT
END:VCALENDAR