BEGIN:VCALENDAR
VERSION:2.0
PRODID:-//hacksw/handcal//NONSGML v1.0//EN
CALSCALE:GREGORIAN
BEGIN:VEVENT
DTSTART:20191111T060000Z
DTEND:20191111T124500Z
UID:e22084
DTSTAMP:20260419T100438Z
LOCATION:Max and Lillian Candiotty Building
DESCRIPTION:4th Biannual Leukemia meeting
SUMMARY:4th Biannual Leukemia meeting
END:VEVENT
END:VCALENDAR