BEGIN:VCALENDAR
VERSION:2.0
PRODID:-//hacksw/handcal//NONSGML v1.0//EN
CALSCALE:GREGORIAN
BEGIN:VEVENT
DTSTART:20191112T083000Z
DTEND:20191112T093000Z
UID:e22118
DTSTAMP:20260419T100503Z
LOCATION:Nella and Leon Benoziyo Building for Biological Sciences
DESCRIPTION:Plant water storage: insights into a drought coping mechanism
SUMMARY:Plant water storage: insights into a drought coping mechanism
END:VEVENT
END:VCALENDAR