BEGIN:VCALENDAR
VERSION:2.0
PRODID:-//hacksw/handcal//NONSGML v1.0//EN
CALSCALE:GREGORIAN
BEGIN:VEVENT
DTSTART:20191126T093000Z
DTEND:20191126T093000Z
UID:e22136
DTSTAMP:20260419T231658Z
LOCATION:Gerhard M.J. Schmidt Lecture Hall
DESCRIPTION:The Neurobiology of Personality:  Using AI to link Genes\, Behavior\, and  Positive-Psychology
SUMMARY:The Neurobiology of Personality:  Using AI to link Genes\, Behavior\, and  Positive-Psychology
END:VEVENT
END:VCALENDAR