BEGIN:VCALENDAR
VERSION:2.0
PRODID:-//hacksw/handcal//NONSGML v1.0//EN
CALSCALE:GREGORIAN
BEGIN:VEVENT
DTSTART:20191211T070000Z
DTEND:20191211T070000Z
UID:e22146
DTSTAMP:20260420T195042Z
LOCATION:Arthur and Rochelle Belfer Building for Biomedical Research
DESCRIPTION:Developmental Club Series 2019-20
SUMMARY:Developmental Club Series 2019-20
END:VEVENT
END:VCALENDAR